BEGIN:VCALENDAR
VERSION:2.0
PRODID:-//The Rockville Center - ECPv6.10.2//NONSGML v1.0//EN
CALSCALE:GREGORIAN
METHOD:PUBLISH
X-WR-CALNAME:The Rockville Center
X-ORIGINAL-URL:https://rockvillecenter.com
X-WR-CALDESC:Events for The Rockville Center
REFRESH-INTERVAL;VALUE=DURATION:PT1H
X-Robots-Tag:noindex
X-PUBLISHED-TTL:PT1H
BEGIN:VTIMEZONE
TZID:UTC
BEGIN:STANDARD
TZOFFSETFROM:+0000
TZOFFSETTO:+0000
TZNAME:UTC
DTSTART:20250101T000000
END:STANDARD
END:VTIMEZONE
BEGIN:VEVENT
DTSTART;TZID=UTC:20250613T180000
DTEND;TZID=UTC:20250613T213000
DTSTAMP:20260419T130547
CREATED:20250313T011203Z
LAST-MODIFIED:20250313T011203Z
UID:4278-1749837600-1749850200@rockvillecenter.com
SUMMARY:Glo Party
DESCRIPTION:Stay up past bedtime and dive into a glowing night of fun! The pool will be lit up\, and the Hibachi food truck will be on-siteÑso dinner is covered!
URL:https://rockvillecenter.com/event/glo-party/
LOCATION:VA
CATEGORIES:Family Fun
END:VEVENT
END:VCALENDAR