BEGIN:VCALENDAR
VERSION:2.0
PRODID:-//The Rockville Center - ECPv6.10.2//NONSGML v1.0//EN
CALSCALE:GREGORIAN
METHOD:PUBLISH
X-WR-CALNAME:The Rockville Center
X-ORIGINAL-URL:https://rockvillecenter.com
X-WR-CALDESC:Events for The Rockville Center
REFRESH-INTERVAL;VALUE=DURATION:PT1H
X-Robots-Tag:noindex
X-PUBLISHED-TTL:PT1H
BEGIN:VTIMEZONE
TZID:UTC
BEGIN:STANDARD
TZOFFSETFROM:+0000
TZOFFSETTO:+0000
TZNAME:UTC
DTSTART:20250101T000000
END:STANDARD
END:VTIMEZONE
BEGIN:VEVENT
DTSTART;TZID=UTC:20250519T000000
DTEND;TZID=UTC:20250519T000000
DTSTAMP:20260421T120134
CREATED:20250313T011203Z
LAST-MODIFIED:20250313T011203Z
UID:4277-1747612800-1747612800@rockvillecenter.com
SUMMARY:First Swim Team Practice
DESCRIPTION:Visit the Swim Team website for full practice schedule.
URL:https://rockvillecenter.com/event/first-swim-team-practice/
LOCATION:VA
CATEGORIES:Sports
END:VEVENT
END:VCALENDAR